Workbook

Sheet Continuous Case Report
A1: Clerk of Court Annual Report for Continuous Case Workload
A2: ="County Fiscal Year "&ReportInfo!N2&"-"&(ReportInfo!N2+1) -> County Fiscal Year 2025-2026
B4: County: | F4: Version #: | L4: CCOC Form Version 1 Created 03/31/2026
B5: Contact:
B6: E-Mail Address:
C9: CRIMINAL | G9: CIVIL
B10: ="Continuous Case Workload During County Fiscal Year "&ReportInfo!N2&"-"&(ReportInfo!N2+1) -> Continuous Case Workload During County Fiscal Year 2025-2026 | C10: Circuit (Defendants) | D10: County (Defendants) | E10: Juvenile Delinquency (Juveniles) | F10: Traffic (UTC) | G10: Circuit (Cases) | H10: County (Cases) | I10: Circuit Probate (Cases) | J10: Family (Cases) | K10: Juvenile Dependency (Cases) | L10: Traffic (UTC) | M10: TOTALS
B12: ="Cases Filed during Fiscal Year - 1 Year Prior (October 1, "&(ReportInfo!N2-1)&" - September 30, "&(ReportInfo!N2)&")" -> Cases Filed during Fiscal Year - 1 Year Prior (October 1, 2024 - September 30, 2025) | M12: =SUM(C12:L12) -> 0
B13: ="Cases Filed during Fiscal Year - 2 Years Prior (October 1, "&(ReportInfo!N2-2)&" - September 30, "&(ReportInfo!N2-1)&")" -> Cases Filed during Fiscal Year - 2 Years Prior (October 1, 2023 - September 30, 2024) | M13: =SUM(C13:L13) -> 0
B14: ="Cases Filed during Fiscal Year - 3 Years Prior (October 1, "&(ReportInfo!N2-3)&" - September 30, "&(ReportInfo!N2-2)&")" -> Cases Filed during Fiscal Year - 3 Years Prior (October 1, 2022 - September 30, 2023) | M14: =SUM(C14:L14) -> 0
B15: ="Cases Filed Prior to October 1, "&(ReportInfo!N2-3) -> Cases Filed Prior to October 1, 2022 | M15: =SUM(C15:L15) -> 0
B17: Comments/Additional Notes
B19: NOTE:
B20: ="1. Continuing Case Activity (CCA) data ONLY includes cases filed prior to CFY "&(ReportInfo!N2)&" - "&(ReportInfo!N2+1)&" in the previous years listed above but ''worked on'' between October 1, "&(ReportInfo!N2)&" and September 30, "&(ReportInfo!N2+1)&"." -> 1. Continuing Case Activity (CCA) data ONLY includes cases filed prior to CFY 2025 - 2026 in the previous years listed above but ''worked on'' between October 1, 2025 and September 30, 2026.
B21: 2. This report is due to the CCOC via e-mail on or before December 1. Submit this workbook in the original Microsoft Excel format as an e-mail attachment to reports@flccoc.org.

Sheet Form Data LOOKUP
A1: Organization | B1: OrganizationID | C1: ReportSubmissionNum | D1: ReportingMonth | E1: ReportingQuarter | F1: ReportQuarterEndDate | G1: ReportQuarterEndMonth
A2: Alachua | B2: 1 | C2: 1 | D2: October | E2: Quarter 1 | F2: ="12/31/"&ReportInfo!N2 -> 12/31/2025 | G2: December
A3: Baker | B3: 2 | C3: 2 | D3: November | E3: Quarter 2 | F3: ="3/31/"&(ReportInfo!N2+1) -> 3/31/2026 | G3: March
A4: Bay | B4: 3 | C4: 3 | D4: December | E4: Quarter 3 | F4: ="6/30/"&(ReportInfo!N2+1) -> 6/30/2026 | G4: June
A5: Bradford | B5: 4 | C5: 4 | D5: January | E5: Quarter 4 | F5: ="9/30/"&(ReportInfo!N2+1) -> 9/30/2026 | G5: September
A6: Brevard | B6: 5 | C6: 5 | D6: February
A7: Broward | B7: 6 | C7: 6 | D7: March
A8: Calhoun | B8: 7 | C8: 7 | D8: April
A9: Charlotte | B9: 8 | C9: 8 | D9: May
A10: Citrus | B10: 9 | C10: 9 | D10: June
A11: Clay | B11: 10 | C11: 10 | D11: July
A12: Collier | B12: 11 | C12: FINAL | D12: August
A13: Columbia | B13: 12 | D13: September
A14: Desoto | B14: 14
A15: Dixie | B15: 15
A16: Duval | B16: 16
A17: Escambia | B17: 17
A18: Flagler | B18: 18
A19: Franklin | B19: 19
A20: Gadsden | B20: 20
A21: Gilchrist | B21: 21
A22: Glades | B22: 22
A23: Gulf | B23: 23
A24: Hamilton | B24: 24
A25: Hardee | B25: 25
... A68: Washington | B68: 67

Sheet ReportInfo
A1: ReportShortName: | B1: ContinuingCase | D1: CountyName: | E1: =IF('Continuous Case Report'!C4="","None",'Continuous Case Report'!C4) -> None | G1: DataTableNum | H1: DataTable | I1: StartCol | J1: EndCol | K1: StartRow | L1: EndRow | N1: First Year of CFY
A2: VerificationCode: | B2: CA1.18.1.0 | G2: 1 | H2: ="D_A_"&$B$1 -> D_A_ContinuingCase | I2: A | J2: J | K2: 20 | L2: 31 | N2: 2025
G3: 2 | H3: ="D_A_"&$B$1 -> D_A_ContinuingCase | I3: A | J3: J | K3: 33 | L3: 33
G4: 3
A5: SubmissionDate: | B5: ="12/1/"&(N2+1) -> 12/1/2026 | G5: 4
A6: SubmissionEmail: | G6: 5
A7: SubmissionMonth: | B7: =TEXT(B5,"MMM") -> Dec | G7: 6
A8: VersionNumber: | B8: =IF('Continuous Case Report'!$G$4="",1,'Continuous Case Report'!$G$4) -> 1 | G8: 7
A9: ReportMonth: | G9: 8
A10: Filename: | B10: {=MID(CELL("filename"),SEARCH("[",CELL("filename"))+1, SEARCH("]",CELL("filename"))-SEARCH("[",CELL("filename"))-1)} -> CountyName CFY2526 Continuous Case Ver(DRAFT).xlsx | G10: 9
A11: FolderLocation: | B11: ="R:\!CFY"&(N2-2000)&""&(N2-1999)&"\Incoming Reports\Continuing Case Activity Workload\" -> R:\!CFY2526\Incoming Reports\Continuing Case Activity Workload\ | G11: 10
B12: =E1&" CFY"&(N2-2000)&""&(N2-1999)&" "&B1&" Annual Ver"&B8&" "&TEXT(B5,"MMDDYY")&".xlsx" -> None CFY2526 ContinuingCase Annual Ver1 120126.xlsx | G12: 11
A13: NumDataTables: | B13: 2
A20: OrganizationID | B20: FiscalYearID | C20: DataTyope | D20: CourtType | E20: CourtDivision | F20: 1 Year Prior | G20: 2 Years Prior | H20: 3 Years Prior | I20: 4 Years or More Prior | J20: ReportID
A21: =IFERROR(INDEX('Form Data LOOKUP'!$B$2:$B$68,MATCH($E$1,'Form Data LOOKUP'!$A$2:$A$68,0)),0) -> 0 | B21: =(N2-1999) -> 26 | C21: Workload | D21: ='Continuous Case Report'!$C$9 -> CRIMINAL | E21: ='Continuous Case Report'!$C$10 -> Circuit (Defendants) | F21: ='Continuous Case Report'!$C$12 -> 0 | G21: ='Continuous Case Report'!$C$13 -> 0 | H21: ='Continuous Case Report'!$C$14 -> 0 | I21: ='Continuous Case Report'!$C$15 -> 0 | J21: 8
A22: =IFERROR(INDEX('Form Data LOOKUP'!$B$2:$B$68,MATCH($E$1,'Form Data LOOKUP'!$A$2:$A$68,0)),0) -> 0 | B22: =$B$21 -> 26 | C22: Workload | D22: ='Continuous Case Report'!$C$9 -> CRIMINAL | E22: ='Continuous Case Report'!$D$10 -> County (Defendants) | F22: ='Continuous Case Report'!$D$12 -> 0 | G22: ='Continuous Case Report'!$D$13 -> 0 | H22: ='Continuous Case Report'!$D$14 -> 0 | I22: ='Continuous Case Report'!$D$15 -> 0 | J22: 8
A23: =IFERROR(INDEX('Form Data LOOKUP'!$B$2:$B$68,MATCH($E$1,'Form Data LOOKUP'!$A$2:$A$68,0)),0) -> 0 | B23: =$B$21 -> 26 | C23: Workload | D23: ='Continuous Case Report'!$C$9 -> CRIMINAL | E23: ='Continuous Case Report'!$E$10 -> Juvenile Delinquency (Juveniles) | F23: ='Continuous Case Report'!$E$12 -> 0 | G23: ='Continuous Case Report'!$E$13 -> 0 | H23: ='Continuous Case Report'!$E$14 -> 0 | I23: ='Continuous Case Report'!$E$15 -> 0 | J23: 8
A24: =IFERROR(INDEX('Form Data LOOKUP'!$B$2:$B$68,MATCH($E$1,'Form Data LOOKUP'!$A$2:$A$68,0)),0) -> 0 | B24: =$B$21 -> 26 | C24: Workload | D24: ='Continuous Case Report'!$C$9 -> CRIMINAL | E24: ='Continuous Case Report'!$F$10 -> Traffic (UTC) | F24: ='Continuous Case Report'!$F$12 -> 0 | G24: ='Continuous Case Report'!$F$13 -> 0 | H24: ='Continuous Case Report'!$F$14 -> 0 | I24: ='Continuous Case Report'!$F$15 -> 0 | J24: 8
A25: =IFERROR(INDEX('Form Data LOOKUP'!$B$2:$B$68,MATCH($E$1,'Form Data LOOKUP'!$A$2:$A$68,0)),0) -> 0 | B25: =$B$21 -> 26 | C25: Workload | D25: ='Continuous Case Report'!$G$9 -> CIVIL | E25: ='Continuous Case Report'!$G$10 -> Circuit (Cases) | F25: ='Continuous Case Report'!$G$12 -> 0 | G25: ='Continuous Case Report'!$G$13 -> 0 | H25: ='Continuous Case Report'!$G$14 -> 0 | I25: ='Continuous Case Report'!$G$15 -> 0 | J25: 8
A26: =IFERROR(INDEX('Form Data LOOKUP'!$B$2:$B$68,MATCH($E$1,'Form Data LOOKUP'!$A$2:$A$68,0)),0) -> 0 | B26: =$B$21 -> 26 | C26: Workload | D26: ='Continuous Case Report'!$G$9 -> CIVIL | E26: ='Continuous Case Report'!$H$10 -> County (Cases) | F26: ='Continuous Case Report'!$H$12 -> 0 | G26: ='Continuous Case Report'!$H$13 -> 0 | H26: ='Continuous Case Report'!$H$14 -> 0 | I26: ='Continuous Case Report'!$H$15 -> 0 | J26: 8
A27: =IFERROR(INDEX('Form Data LOOKUP'!$B$2:$B$68,MATCH($E$1,'Form Data LOOKUP'!$A$2:$A$68,0)),0) -> 0 | B27: =$B$21 -> 26 | C27: Workload | D27: ='Continuous Case Report'!$G$9 -> CIVIL | E27: ='Continuous Case Report'!$I$10 -> Circuit Probate (Cases) | F27: ='Continuous Case Report'!$I$12 -> 0 | G27: ='Continuous Case Report'!$I$13 -> 0 | H27: ='Continuous Case Report'!$I$14 -> 0 | I27: ='Continuous Case Report'!$I$15 -> 0 | J27: 8
A28: =IFERROR(INDEX('Form Data LOOKUP'!$B$2:$B$68,MATCH($E$1,'Form Data LOOKUP'!$A$2:$A$68,0)),0) -> 0 | B28: =$B$21 -> 26 | C28: Workload | D28: ='Continuous Case Report'!$G$9 -> CIVIL | E28: ='Continuous Case Report'!$J$10 -> Family (Cases) | F28: ='Continuous Case Report'!$J$12 -> 0 | G28: ='Continuous Case Report'!$J$13 -> 0 | H28: ='Continuous Case Report'!$J$14 -> 0 | I28: ='Continuous Case Report'!$J$15 -> 0 | J28: 8
A29: =IFERROR(INDEX('Form Data LOOKUP'!$B$2:$B$68,MATCH($E$1,'Form Data LOOKUP'!$A$2:$A$68,0)),0) -> 0 | B29: =$B$21 -> 26 | C29: Workload | D29: ='Continuous Case Report'!$G$9 -> CIVIL | E29: ='Continuous Case Report'!$K$10 -> Juvenile Dependency (Cases) | F29: ='Continuous Case Report'!$K$12 -> 0 | G29: ='Continuous Case Report'!$K$13 -> 0 | H29: ='Continuous Case Report'!$K$14 -> 0 | I29: ='Continuous Case Report'!$K$15 -> 0 | J29: 8
A30: =IFERROR(INDEX('Form Data LOOKUP'!$B$2:$B$68,MATCH($E$1,'Form Data LOOKUP'!$A$2:$A$68,0)),0) -> 0 | B30: =$B$21 -> 26 | C30: Workload | D30: ='Continuous Case Report'!$G$9 -> CIVIL | E30: ='Continuous Case Report'!$L$10 -> Traffic (UTC) | F30: ='Continuous Case Report'!$L$12 -> 0 | G30: ='Continuous Case Report'!$L$13 -> 0 | H30: ='Continuous Case Report'!$L$14 -> 0 | I30: ='Continuous Case Report'!$L$15 -> 0 | J30: 8
A31: =IFERROR(INDEX('Form Data LOOKUP'!$B$2:$B$68,MATCH($E$1,'Form Data LOOKUP'!$A$2:$A$68,0)),0) -> 0 | B31: =$B$21 -> 26 | C31: Workload | D31: ALL | E31: ='Continuous Case Report'!$M$10 -> TOTALS | F31: ='Continuous Case Report'!$M$12 -> 0 | G31: ='Continuous Case Report'!$M$13 -> 0 | H31: ='Continuous Case Report'!$M$14 -> 0 | I31: ='Continuous Case Report'!$M$15 -> 0 | J31: 8
A32: OrganizationID | B32: FiscalYearID | C32: DataTyope | D32: CourtType | E32: CourtDivision | F32: 1 Year Prior | G32: 2 Years Prior | H32: 3 Years Prior | I32: 4 Years or More Prior | J32: ReportID
A33: =IFERROR(INDEX('Form Data LOOKUP'!$B$2:$B$68,MATCH($E$1,'Form Data LOOKUP'!$A$2:$A$68,0)),0) -> 0 | B33: =$B$21 -> 26 | C33: Workload | D33: ALL | E33: Notes | F33: =IF('Continuous Case Report'!$C$17="","",'Continuous Case Report'!$C$17)
