BEGIN:VCALENDAR
VERSION:2.0
PRODID:-//Welcome to Florida Clerks of Court Operations Corporation (CCOC) - ECPv6.15.20//NONSGML v1.0//EN
CALSCALE:GREGORIAN
METHOD:PUBLISH
X-ORIGINAL-URL:https://flccoc.org
X-WR-CALDESC:Events for Welcome to Florida Clerks of Court Operations Corporation (CCOC)
REFRESH-INTERVAL;VALUE=DURATION:PT1H
X-Robots-Tag:noindex
X-PUBLISHED-TTL:PT1H
BEGIN:VTIMEZONE
TZID:America/New_York
BEGIN:DAYLIGHT
TZOFFSETFROM:-0500
TZOFFSETTO:-0400
TZNAME:EDT
DTSTART:20190310T070000
END:DAYLIGHT
BEGIN:STANDARD
TZOFFSETFROM:-0400
TZOFFSETTO:-0500
TZNAME:EST
DTSTART:20191103T060000
END:STANDARD
BEGIN:DAYLIGHT
TZOFFSETFROM:-0500
TZOFFSETTO:-0400
TZNAME:EDT
DTSTART:20200308T070000
END:DAYLIGHT
BEGIN:STANDARD
TZOFFSETFROM:-0400
TZOFFSETTO:-0500
TZNAME:EST
DTSTART:20201101T060000
END:STANDARD
BEGIN:DAYLIGHT
TZOFFSETFROM:-0500
TZOFFSETTO:-0400
TZNAME:EDT
DTSTART:20210314T070000
END:DAYLIGHT
BEGIN:STANDARD
TZOFFSETFROM:-0400
TZOFFSETTO:-0500
TZNAME:EST
DTSTART:20211107T060000
END:STANDARD
BEGIN:DAYLIGHT
TZOFFSETFROM:-0500
TZOFFSETTO:-0400
TZNAME:EDT
DTSTART:20220313T070000
END:DAYLIGHT
BEGIN:STANDARD
TZOFFSETFROM:-0400
TZOFFSETTO:-0500
TZNAME:EST
DTSTART:20221106T060000
END:STANDARD
BEGIN:DAYLIGHT
TZOFFSETFROM:-0500
TZOFFSETTO:-0400
TZNAME:EDT
DTSTART:20230312T070000
END:DAYLIGHT
BEGIN:STANDARD
TZOFFSETFROM:-0400
TZOFFSETTO:-0500
TZNAME:EST
DTSTART:20231105T060000
END:STANDARD
BEGIN:DAYLIGHT
TZOFFSETFROM:-0500
TZOFFSETTO:-0400
TZNAME:EDT
DTSTART:20240310T070000
END:DAYLIGHT
BEGIN:STANDARD
TZOFFSETFROM:-0400
TZOFFSETTO:-0500
TZNAME:EST
DTSTART:20241103T060000
END:STANDARD
BEGIN:DAYLIGHT
TZOFFSETFROM:-0500
TZOFFSETTO:-0400
TZNAME:EDT
DTSTART:20250309T070000
END:DAYLIGHT
BEGIN:STANDARD
TZOFFSETFROM:-0400
TZOFFSETTO:-0500
TZNAME:EST
DTSTART:20251102T060000
END:STANDARD
END:VTIMEZONE
BEGIN:VEVENT
DTSTART;TZID=America/New_York:20200224T130000
DTEND;TZID=America/New_York:20200224T140000
DTSTAMP:20260425T090835
CREATED:20200220T200333Z
LAST-MODIFIED:20200220T205931Z
UID:10001091-1582549200-1582552800@flccoc.org
SUMMARY:CCOC/FCCC Leadership Meeting 2/24/20
DESCRIPTION:The CCOC and FCCC leadership have a meeting scheduled on February 24\, 2020\, at 1:00 PM Eastern Time. \nConference Call: 1 (904) 512-0115\, Code 412463 \n  \nAgenda
URL:https://flccoc.org/event/ccoc-fccc-leadership-meeting-3/
LOCATION:Conference Call
CATEGORIES:Corporation
END:VEVENT
BEGIN:VEVENT
DTSTART;TZID=America/New_York:20200325T150000
DTEND;TZID=America/New_York:20200325T160000
DTSTAMP:20260425T090835
CREATED:20200320T203423Z
LAST-MODIFIED:20200409T170115Z
UID:10001094-1585148400-1585152000@flccoc.org
SUMMARY:Emergency Executive Council Meeting
DESCRIPTION:March 25\, 2020 \nMeeting: 3:00 to 4:00 PM \nConference Call Line: 1-415-655-0001 Access Code: 479 951 561 \nWebEx Link: https://flccoc.webex.com/flccoc/j.php?MTID=m38c46b898e5acf233201135c6811cc6b \nPassword: Mcp4m44R9jN    Meeting Number: 479 951 561 \nAgenda
URL:https://flccoc.org/event/emergency-executive-council-meeting/
CATEGORIES:Executive Council
END:VEVENT
BEGIN:VEVENT
DTSTART;TZID=America/New_York:20200622T090000
DTEND;TZID=America/New_York:20200622T120000
DTSTAMP:20260425T090835
CREATED:20200604T123146Z
LAST-MODIFIED:20200618T133458Z
UID:10001100-1592816400-1592827200@flccoc.org
SUMMARY:Executive Council Meeting
DESCRIPTION:The Executive Council will hold a meeting as part of the FCCC Summer Conference on Monday\, June 22 from 9 AM to 12 PM via WebEx. Materials will be posted as developed. \n  \nMeeting link: https://flccoc.webex.com/flccoc/j.php?MTID=m3c53353fd66b361fea49b01d4edd28f4 \nMeeting number:160 277 9431 \nPassword: ECMeeting \nJoin by phone: +1-415-655-0001 US Toll \n\nAccess code: 160 277 9431\n\n  \n  \n  \nAgenda \nPacket
URL:https://flccoc.org/event/executive-council-meeting-14/
LOCATION:WebEx
CATEGORIES:Executive Council
END:VEVENT
BEGIN:VEVENT
DTSTART;TZID=America/New_York:20200626T130000
DTEND;TZID=America/New_York:20200626T140000
DTSTAMP:20260425T090835
CREATED:20200622T144122Z
LAST-MODIFIED:20200626T144431Z
UID:10001102-1593176400-1593180000@flccoc.org
SUMMARY:Emergency Executive Council Meeting
DESCRIPTION:An Emergency Executive Council meeting is scheduled today for Friday\, June 26\, 2020\, starting at 1:00 PM. Information will be posted to our website as developed: https://flccoc.org/executive-council/. \n  \nMeeting Information \nMeeting link: https://flccoc.webex.com/flccoc/j.php?MTID=mb4e7804906a199acc81058f0a3dfe1aa \nMeeting number: 160 035 2133 \nPassword: ECMeeting \n  \nJoin by phone: +1-415-655-0001; Access code: 160 035 2133 \n  \nAgenda \nPacket
URL:https://flccoc.org/event/emergency-executive-council-meeting-2/
LOCATION:WebEx
CATEGORIES:Executive Committee
END:VEVENT
BEGIN:VEVENT
DTSTART;VALUE=DATE:20210430
DTEND;VALUE=DATE:20210501
DTSTAMP:20260425T090835
CREATED:20210419T210528Z
LAST-MODIFIED:20210426T210553Z
UID:10001123-1619740800-1619827199@flccoc.org
SUMMARY:SURVEY: Homeless Impact on Compliance
DESCRIPTION:Homeless Impact on Compliance \n  \nAs an educational service\, the Florida Clerks of Court Operations Corporation (CCOC) is conducting a survey to explore the impact of the homeless on compliance services across Florida. Follow the link to record your survey responses on Homeless Impacts on Compliance Service. This survey is expected to take about 10-15 minutes to complete. Please complete by Friday\, April 30\, 2021. \n  \nIn Florida\, over 28\,000 people experience homelessness every day. The impact on the courts is pushed with defendants unable to comply with sanctions including court-ordered fines. In the most recent blogpost on Compliance Corner\, we further explore the impact and options to identify\, divert\, and report compliance cases with homeless impacts.  We look forward to your responses!
URL:https://flccoc.org/event/survey-homeless-impact-on-compliance/
CATEGORIES:Performance Improvements and Efficiency Committee
END:VEVENT
BEGIN:VEVENT
DTSTART;TZID=America/New_York:20230622T130000
DTEND;TZID=America/New_York:20230622T160000
DTSTAMP:20260425T090835
CREATED:20230614T184257Z
LAST-MODIFIED:20230614T184335Z
UID:10001191-1687438800-1687449600@flccoc.org
SUMMARY:Budget Committee Meeting
DESCRIPTION:BUDGET COMMITTEE MEETING \nJune 22\, 2023 \nMeeting: 1:00 – 4:00 PM\, Eastern \nLocation: Orange County Courthouse – Room 255 (425 N. Orange Ave\, Orlando) \nWebEx Link: https://flclerks.webex.com/flclerks/j.php?MTID=md5397342f09bd4333561ae9553950d5b \nMeeting Code: 2316 606 3442; Password: CCOC \nConference Call: 1-866-469-3239; Access Code: 2316 606 3442 \nAGENDA \nPACKET
URL:https://flccoc.org/event/budget-committee-meeting-31/
LOCATION:Orange County Courthouse Complex\, 435 N. Orange Ave. Building A\, Room A\, Orlando\, FL\, 32801
CATEGORIES:Budget Committee
END:VEVENT
BEGIN:VEVENT
DTSTART;TZID=America/New_York:20230803T090000
DTEND;TZID=America/New_York:20230803T160000
DTSTAMP:20260425T090835
CREATED:20230630T193319Z
LAST-MODIFIED:20230726T193803Z
UID:10001193-1691053200-1691078400@flccoc.org
SUMMARY:Budget Committee Meeting
DESCRIPTION:BUDGET COMMITTEE MEETING \n  \nAugust 3\, 2023 \nMeeting: 9:00 AM – 4:00 PM\, Eastern \nLocation: Orange County Courthouse – Room 255 (425 N. Orange Ave\, Orlando) \nWebEx Link: https://flclerks.webex.com/flclerks/j.php?MTID=ma5583b2d1aa681496cf23c1b4accd63d \nMeeting Code: 2301 783 2183; Password: CCOC \nConference Call: 1-866-469-3239; Access Code: 2301 783 2183 \n  \nAGENDA \nPACKET
URL:https://flccoc.org/event/budget-committee-meeting-32/
LOCATION:Orange County Courthouse Complex\, 435 N. Orange Ave. Building A\, Room A\, Orlando\, FL\, 32801
CATEGORIES:Budget Committee
END:VEVENT
BEGIN:VEVENT
DTSTART;VALUE=DATE:20240115
DTEND;VALUE=DATE:20240116
DTSTAMP:20260425T090835
CREATED:20240108T153929Z
LAST-MODIFIED:20240108T154025Z
UID:10001208-1705276800-1705363199@flccoc.org
SUMMARY:CCOC Office Closed
DESCRIPTION:The FL CCOC office will be closed on Monday\, January 15\, 2024\, in recognition of Martin Luther King\, Jr. Day.
URL:https://flccoc.org/event/ccoc-office-closed/
CATEGORIES:Corporation
END:VEVENT
END:VCALENDAR