BEGIN:VCALENDAR
VERSION:2.0
PRODID:-//Welcome to Florida Clerks of Court Operations Corporation (CCOC) - ECPv6.15.20//NONSGML v1.0//EN
CALSCALE:GREGORIAN
METHOD:PUBLISH
X-ORIGINAL-URL:https://flccoc.org
X-WR-CALDESC:Events for Welcome to Florida Clerks of Court Operations Corporation (CCOC)
REFRESH-INTERVAL;VALUE=DURATION:PT1H
X-Robots-Tag:noindex
X-PUBLISHED-TTL:PT1H
BEGIN:VTIMEZONE
TZID:America/New_York
BEGIN:DAYLIGHT
TZOFFSETFROM:-0500
TZOFFSETTO:-0400
TZNAME:EDT
DTSTART:20230312T070000
END:DAYLIGHT
BEGIN:STANDARD
TZOFFSETFROM:-0400
TZOFFSETTO:-0500
TZNAME:EST
DTSTART:20231105T060000
END:STANDARD
BEGIN:DAYLIGHT
TZOFFSETFROM:-0500
TZOFFSETTO:-0400
TZNAME:EDT
DTSTART:20240310T070000
END:DAYLIGHT
BEGIN:STANDARD
TZOFFSETFROM:-0400
TZOFFSETTO:-0500
TZNAME:EST
DTSTART:20241103T060000
END:STANDARD
BEGIN:DAYLIGHT
TZOFFSETFROM:-0500
TZOFFSETTO:-0400
TZNAME:EDT
DTSTART:20250309T070000
END:DAYLIGHT
BEGIN:STANDARD
TZOFFSETFROM:-0400
TZOFFSETTO:-0500
TZNAME:EST
DTSTART:20251102T060000
END:STANDARD
END:VTIMEZONE
BEGIN:VEVENT
DTSTART;VALUE=DATE:20240109
DTEND;VALUE=DATE:20240110
DTSTAMP:20260421T225232
CREATED:20240108T153713Z
LAST-MODIFIED:20240108T154004Z
UID:10001206-1704758400-1704844799@flccoc.org
SUMMARY:Legislative Session Begins
DESCRIPTION:Legislative Session Begins
URL:https://flccoc.org/event/legislative-session-begins/
CATEGORIES:Corporation,Legislative Committee
END:VEVENT
BEGIN:VEVENT
DTSTART;VALUE=DATE:20240115
DTEND;VALUE=DATE:20240116
DTSTAMP:20260421T225232
CREATED:20240108T153929Z
LAST-MODIFIED:20240108T154025Z
UID:10001208-1705276800-1705363199@flccoc.org
SUMMARY:CCOC Office Closed
DESCRIPTION:The FL CCOC office will be closed on Monday\, January 15\, 2024\, in recognition of Martin Luther King\, Jr. Day.
URL:https://flccoc.org/event/ccoc-office-closed/
CATEGORIES:Corporation
END:VEVENT
BEGIN:VEVENT
DTSTART;TZID=America/New_York:20240117T090000
DTEND;TZID=America/New_York:20240117T150000
DTSTAMP:20260421T225232
CREATED:20240108T154458Z
LAST-MODIFIED:20240108T182557Z
UID:10001209-1705482000-1705503600@flccoc.org
SUMMARY:Clerk's Day at the Capitol
DESCRIPTION:9:00 AM – 3:00 PM Florida Court Clerks & Comptrollers Tabling Begins \nFlorida State Capitol\, 3rd Floor Rotunda  \nFCCC will host a table in the Capitol during Clerks’ Day to provide information to Capitol visitors and guests on the services provided by Florida’s Court Clerks and Comptrollers. Please stop by should you need any additional materials for your delegation meetings. \nClerks are also encouraged to spend a few minutes at the table greeting guests and helping educate Capitol visitors on the many great services Clerks’ offices provide. \n  \nPlease contact FCCC staff for further questions.
URL:https://flccoc.org/event/clerks-day-at-the-capitol/
LOCATION:Florida Capitol\, 400 S. Monroe Street\, Tallahassee\, FL\, 32399\, United States
CATEGORIES:Corporation
END:VEVENT
BEGIN:VEVENT
DTSTART;VALUE=DATE:20240209
DTEND;VALUE=DATE:20240210
DTSTAMP:20260421T225232
CREATED:20240108T195659Z
LAST-MODIFIED:20240216T183709Z
UID:10001211-1707436800-1707523199@flccoc.org
SUMMARY:Operational Budget Due
DESCRIPTION:The CFY 2023-24 Operational Budget submission forms and instructions have been posted to the CCOC website: https://flccoc.org/clerks-budget/#opb.  There are no major changes to the Operational Budget form from prior fiscal years. A Revenue Estimate form is not required this year. \n  \nThe Operational Budget Form (Excel Spreadsheet) and the signed Certification Letter are due to reports@flccoc.org by Friday\, February 9\, 2024. \n  \nPlease contact CCOC Staff should you have any questions.
URL:https://flccoc.org/event/operational-budget-due-2/
CATEGORIES:Budget Committee
END:VEVENT
BEGIN:VEVENT
DTSTART;TZID=America/New_York:20240306T160000
DTEND;TZID=America/New_York:20240306T170000
DTSTAMP:20260421T225232
CREATED:20240305T154704Z
LAST-MODIFIED:20240305T154704Z
UID:10001217-1709740800-1709744400@flccoc.org
SUMMARY:Executive Committee Meeting
DESCRIPTION:March 6\, 2024 \nMeeting:  4:00 PM\, Eastern \nTeams Link: Click here to join the meeting \nMeeting ID: 241 669 667 633\, Passcode: TnWL4u
URL:https://flccoc.org/event/executive-committee-meeting-7/
END:VEVENT
BEGIN:VEVENT
DTSTART;VALUE=DATE:20240308
DTEND;VALUE=DATE:20240309
DTSTAMP:20260421T225232
CREATED:20240108T153801Z
LAST-MODIFIED:20240305T154925Z
UID:10001207-1709856000-1709942399@flccoc.org
SUMMARY:Legislative Session Ends
DESCRIPTION:Legislative Session Ends
URL:https://flccoc.org/event/legislative-session-ends/
CATEGORIES:Corporation,Legislative Committee
END:VEVENT
BEGIN:VEVENT
DTSTART;TZID=America/New_York:20240315T100000
DTEND;TZID=America/New_York:20240315T120000
DTSTAMP:20260421T225232
CREATED:20230612T185236Z
LAST-MODIFIED:20240305T165946Z
UID:10001186-1710496800-1710504000@flccoc.org
SUMMARY:PIE Committee Meeting
DESCRIPTION:PERFORMANCE IMPROVEMENT AND EFFICIENCIES COMMITTEE MEETING \n  \nMarch 15\, 2024 \nMeeting: 10:00 AM – 12:00 PM\, Eastern \nWebEx Link: https://flclerks.webex.com/flclerks/j.php?MTID=m8c747ac1add82b4532473742fbbe1908 \nMeeting Number: 2314 252 5743; Password: CCOC\nConference Call: 1-866-469-3239; Access Code: 2314 252 5743 \nAGENDA \nPACKET
URL:https://flccoc.org/event/pie-committee-meeting-11/
LOCATION:WebEx
CATEGORIES:Performance Improvements and Efficiency Committee
END:VEVENT
BEGIN:VEVENT
DTSTART;TZID=America/New_York:20240318T150000
DTEND;TZID=America/New_York:20240318T170000
DTSTAMP:20260421T225232
CREATED:20240108T181813Z
LAST-MODIFIED:20240216T183700Z
UID:10001210-1710774000-1710781200@flccoc.org
SUMMARY:Executive Council Meeting
DESCRIPTION:Executive Council Meeting
URL:https://flccoc.org/event/executive-council-meeting-30/
LOCATION:Hyatt Regency Jacksonville Riverfront\, 225 E Coastline Dr\, Jacksonville\, FL\, 32202\, United States
CATEGORIES:Executive Council
GEO:30.3243078;-81.6553039
X-APPLE-STRUCTURED-LOCATION;VALUE=URI;X-ADDRESS=Hyatt Regency Jacksonville Riverfront 225 E Coastline Dr Jacksonville FL 32202 United States;X-APPLE-RADIUS=500;X-TITLE=225 E Coastline Dr:geo:-81.6553039,30.3243078
END:VEVENT
END:VCALENDAR