BEGIN:VCALENDAR
VERSION:2.0
PRODID:-//Welcome to Florida Clerks of Court Operations Corporation (CCOC) - ECPv6.15.20//NONSGML v1.0//EN
CALSCALE:GREGORIAN
METHOD:PUBLISH
X-ORIGINAL-URL:https://flccoc.org
X-WR-CALDESC:Events for Welcome to Florida Clerks of Court Operations Corporation (CCOC)
REFRESH-INTERVAL;VALUE=DURATION:PT1H
X-Robots-Tag:noindex
X-PUBLISHED-TTL:PT1H
BEGIN:VTIMEZONE
TZID:America/New_York
BEGIN:DAYLIGHT
TZOFFSETFROM:-0500
TZOFFSETTO:-0400
TZNAME:EDT
DTSTART:20180311T070000
END:DAYLIGHT
BEGIN:STANDARD
TZOFFSETFROM:-0400
TZOFFSETTO:-0500
TZNAME:EST
DTSTART:20181104T060000
END:STANDARD
BEGIN:DAYLIGHT
TZOFFSETFROM:-0500
TZOFFSETTO:-0400
TZNAME:EDT
DTSTART:20190310T070000
END:DAYLIGHT
BEGIN:STANDARD
TZOFFSETFROM:-0400
TZOFFSETTO:-0500
TZNAME:EST
DTSTART:20191103T060000
END:STANDARD
BEGIN:DAYLIGHT
TZOFFSETFROM:-0500
TZOFFSETTO:-0400
TZNAME:EDT
DTSTART:20200308T070000
END:DAYLIGHT
BEGIN:STANDARD
TZOFFSETFROM:-0400
TZOFFSETTO:-0500
TZNAME:EST
DTSTART:20201101T060000
END:STANDARD
END:VTIMEZONE
BEGIN:VEVENT
DTSTART;TZID=America/New_York:20190411T090000
DTEND;TZID=America/New_York:20190411T130000
DTSTAMP:20260424T170716
CREATED:20190315T195840Z
LAST-MODIFIED:20190315T195903Z
UID:10001055-1554973200-1554987600@flccoc.org
SUMMARY:2019 Budget Forms Training - Orlando
DESCRIPTION:Orlando – April 11th 9:00 am to 1:00 pm \nThe Florida Hotel and Conference Center \n1500 Sand Lake Rd \nOrlando FL 32809 \nhttps://ccoctraining_orl.eventbrite.com \nRegistration ends April 8th at 5:00 PM; Capacity: 75
URL:https://flccoc.org/event/budget-forms-training-orlando-2/
LOCATION:Florida Hotel\, 1500 Sand Lake Road\, Orlando\, FL\, 32809\, United States
CATEGORIES:Budget Committee,Training
END:VEVENT
END:VCALENDAR