BEGIN:VCALENDAR
VERSION:2.0
PRODID:-//Welcome to Florida Clerks of Court Operations Corporation (CCOC) - ECPv6.15.20//NONSGML v1.0//EN
CALSCALE:GREGORIAN
METHOD:PUBLISH
X-ORIGINAL-URL:https://flccoc.org
X-WR-CALDESC:Events for Welcome to Florida Clerks of Court Operations Corporation (CCOC)
REFRESH-INTERVAL;VALUE=DURATION:PT1H
X-Robots-Tag:noindex
X-PUBLISHED-TTL:PT1H
BEGIN:VTIMEZONE
TZID:America/New_York
BEGIN:DAYLIGHT
TZOFFSETFROM:-0500
TZOFFSETTO:-0400
TZNAME:EDT
DTSTART:20210314T070000
END:DAYLIGHT
BEGIN:STANDARD
TZOFFSETFROM:-0400
TZOFFSETTO:-0500
TZNAME:EST
DTSTART:20211107T060000
END:STANDARD
BEGIN:DAYLIGHT
TZOFFSETFROM:-0500
TZOFFSETTO:-0400
TZNAME:EDT
DTSTART:20220313T070000
END:DAYLIGHT
BEGIN:STANDARD
TZOFFSETFROM:-0400
TZOFFSETTO:-0500
TZNAME:EST
DTSTART:20221106T060000
END:STANDARD
BEGIN:DAYLIGHT
TZOFFSETFROM:-0500
TZOFFSETTO:-0400
TZNAME:EDT
DTSTART:20230312T070000
END:DAYLIGHT
BEGIN:STANDARD
TZOFFSETFROM:-0400
TZOFFSETTO:-0500
TZNAME:EST
DTSTART:20231105T060000
END:STANDARD
BEGIN:DAYLIGHT
TZOFFSETFROM:-0500
TZOFFSETTO:-0400
TZNAME:EDT
DTSTART:20240310T070000
END:DAYLIGHT
BEGIN:STANDARD
TZOFFSETFROM:-0400
TZOFFSETTO:-0500
TZNAME:EST
DTSTART:20241103T060000
END:STANDARD
BEGIN:DAYLIGHT
TZOFFSETFROM:-0500
TZOFFSETTO:-0400
TZNAME:EDT
DTSTART:20250309T070000
END:DAYLIGHT
BEGIN:STANDARD
TZOFFSETFROM:-0400
TZOFFSETTO:-0500
TZNAME:EST
DTSTART:20251102T060000
END:STANDARD
END:VTIMEZONE
BEGIN:VEVENT
DTSTART;TZID=America/New_York:20220209T100000
DTEND;TZID=America/New_York:20220209T120000
DTSTAMP:20260425T063727
CREATED:20220201T134541Z
LAST-MODIFIED:20220209T223214Z
UID:10001146-1644400800-1644408000@flccoc.org
SUMMARY:Budget Committee Meeting
DESCRIPTION:BUDGET COMMITTEE MEETING \nFebruary 9\, 2022\nMeeting: 10:00 AM – 12:00 PM\, Eastern\nWebEx Link: https://flclerks.webex.com/flclerks/j.php?MTID=me43a034cb4cfabe799d919ea1de599ae\nMeeting Code: 2315 961 7778; Password: CCOC\nConference Call: 1-866-469-3239; Access Code: 2315 961 7778 \n  \nAGENDA \nPACKET
URL:https://flccoc.org/event/budget-committee-meeting-26/
LOCATION:WebEx
CATEGORIES:Budget Committee
END:VEVENT
BEGIN:VEVENT
DTSTART;TZID=America/New_York:20220209T143000
DTEND;TZID=America/New_York:20220209T153000
DTSTAMP:20260425T063727
CREATED:20220209T220431Z
LAST-MODIFIED:20220209T221519Z
UID:10001147-1644417000-1644420600@flccoc.org
SUMMARY:Compliance Workgroup
DESCRIPTION:Good afternoon\, \n  \nPlease find the attached calendar invite to meet via Teams on February 9\, 2022 at 2:30 p.m.  The link to join is below. \n  \nPlease look over the attached checklist\, Grant would like to discuss ways to enhance it.   Also attached\, are the meeting minutes from the January 24\, 2022 Compliance Workgroup meeting. \n________________________________________________________________________________ \nMicrosoft Teams meeting \nJoin on your computer or mobile app \nClick here to join the meeting \nOr call in (audio only) \n+1 407-752-9750\,\,304369136#   United States\, Orlando \nPhone Conference ID: 304 369 136# \nFind a local number | Reset PIN \nLearn More | Meeting options \n________________________________________________________________________________ \n  \nThank you\, \n  \nAmy Midyette \nClerk’s Administration  \nSeminole County Clerk of the Circuit Court & Comptroller \n301 N Park Ave \nSanford FL 32771 \n407-665-4313
URL:https://flccoc.org/event/compliance-workgroup/
LOCATION:Microsoft Teams
CATEGORIES:Budget Committee,Performance Improvements and Efficiency Committee
END:VEVENT
BEGIN:VEVENT
DTSTART;TZID=America/New_York:20220421T130000
DTEND;TZID=America/New_York:20220421T170000
DTSTAMP:20260425T063727
CREATED:20220302T114111Z
LAST-MODIFIED:20220302T114111Z
UID:10001150-1650546000-1650560400@flccoc.org
SUMMARY:Budget Committee Meeting
DESCRIPTION:BUDGET COMMITTEE MEETING \n  \nApril 21\, 2022 \nMeeting: 1:00 PM – 5:00 PM\, Eastern \nWebEx Link: https://flclerks.webex.com/flclerks/j.php?MTID=mfd7dbdf4d87a5165370eadee09c34722 \nMeeting Code: 2308 519 1224; Password: CCOC \nConference Call: 1-866-469-3239; Access Code: 2308 519 1224 \n  \nAGENDA \nPACKET
URL:https://flccoc.org/event/budget-committee-meeting-27/
LOCATION:Alachua County Criminal Justice Center\, 220 South Main Street\, Gainesville\, FL\, 32601\, United States
CATEGORIES:Budget Committee
END:VEVENT
BEGIN:VEVENT
DTSTART;TZID=America/New_York:20220824T090000
DTEND;TZID=America/New_York:20220824T163000
DTSTAMP:20260425T063727
CREATED:20220722T175909Z
LAST-MODIFIED:20220731T032736Z
UID:10001158-1661331600-1661358600@flccoc.org
SUMMARY:Budget Committee Meeting
DESCRIPTION:BUDGET COMMITTEE MEETING \n  \nAugust 24\, 2022 \nMeeting: 9:00 AM – 4:30 PM\, Eastern \nLocation: The Florida Hotel\, 1500 Sand Lake Road\, Orlando\, FL 32809 \nWebEx Link: https://flclerks.webex.com/flclerks/j.php?MTID=mf84b2ba6163a6815826c5e85e4136d5f \nMeeting Code: 2311 508 4304; Password: CCOC \nConference Call: 1-866-469-3239; Access Code: 2311 508 4304 \n  \nAGENDA \nPACKET
URL:https://flccoc.org/event/budget-committee-meeting-28/
LOCATION:The Florida Hotel and Conference Center\, 1500 Sand Lake Rd\, Orlando\, FL\, 32809\, United States
CATEGORIES:Budget Committee
END:VEVENT
BEGIN:VEVENT
DTSTART;TZID=America/New_York:20221108T133000
DTEND;TZID=America/New_York:20221108T153000
DTSTAMP:20260425T063727
CREATED:20221024T200842Z
LAST-MODIFIED:20221024T200842Z
UID:10001166-1667914200-1667921400@flccoc.org
SUMMARY:2022-23 Budget Training
DESCRIPTION:2022-23 Budget Training \nTuesday\, November 8\, 2022 \n1:30 PM – 3:30 PM \nJoin from the meeting link\nhttps://flccoc.webex.com/flccoc/j.php?MTID=m4ca905658fe6e5a72be404d392d415e4 \n  \nJoin by meeting number \nMeeting number (access code): 2306 392 1612 \nMeeting password: CCOC \n  \nTap to join from a mobile device (attendees only)\n+1-415-655-0001\,\,23063921612## US Toll \nJoin by phone\n+1-415-655-0001 US Toll
URL:https://flccoc.org/event/2022-23-budget-training/
LOCATION:WebEx
CATEGORIES:Budget Committee
END:VEVENT
BEGIN:VEVENT
DTSTART;TZID=America/New_York:20221205T100000
DTEND;TZID=America/New_York:20221205T120000
DTSTAMP:20260425T063727
CREATED:20221024T203726Z
LAST-MODIFIED:20230201T161455Z
UID:10001167-1670234400-1670241600@flccoc.org
SUMMARY:Budget Committee Meeting
DESCRIPTION:BUDGET COMMITTEE MEETING \n  \nDecember 5\, 2022 \nMeeting: 10:00 AM – 12:00 PM\, Eastern \nWebEx Link: https://flclerks.webex.com/flclerks/j.php?MTID=m07e846c49c943ce6a7ba7e49f1b45558 \nMeeting Code: 2315 428 3776; Password: CCOC \nConference Call: 1-866-469-3239; Access Code: 2315 428 3776 \n  \nAGENDA \nPACKET \n 
URL:https://flccoc.org/event/budget-committee-meeting-29/
LOCATION:WebEx
CATEGORIES:Budget Committee
END:VEVENT
BEGIN:VEVENT
DTSTART;TZID=America/New_York:20230209T133000
DTEND;TZID=America/New_York:20230209T150000
DTSTAMP:20260425T063727
CREATED:20230201T161137Z
LAST-MODIFIED:20230201T161944Z
UID:10001176-1675949400-1675954800@flccoc.org
SUMMARY:Budget Committee Meeting
DESCRIPTION:BUDGET COMMITTEE MEETING \n  \nFebruary 9\, 2023 \nMeeting: 1:30 PM – 3:00 PM\, Eastern \nWebEx Link: https://flclerks.webex.com/flclerks/j.php?MTID=mfb41606173acfaecc787bd20c1401e84 \nMeeting Code: 2315 086 2756; Password: CCOC \nConference Call: 1-866-469-3239; Access Code: 2315 086 2756 \n  \nAGENDA \nPACKET
URL:https://flccoc.org/event/budget-committee-meeting-30/
LOCATION:WebEx
CATEGORIES:Budget Committee
END:VEVENT
BEGIN:VEVENT
DTSTART;TZID=America/New_York:20230622T110000
DTEND;TZID=America/New_York:20230622T120000
DTSTAMP:20260425T063727
CREATED:20230616T130048Z
LAST-MODIFIED:20230619T183718Z
UID:10001192-1687431600-1687435200@flccoc.org
SUMMARY:Committee Leadership Meeting
DESCRIPTION:CCOC COMMITTEE LEADERSHIP MEETING \n  \nJune 22\, 2023 \nMeeting: 11:00 AM\, ET \nOrange County Courthouse\, Room 255 \n425 N Orange Ave\, Orlando\, FL \n  \nAGENDA
URL:https://flccoc.org/event/committee-chairs-meeting/
LOCATION:Orange County Courthouse Complex\, 435 N. Orange Ave. Building A\, Room A\, Orlando\, FL\, 32801
CATEGORIES:Budget Committee,Executive Committee,Executive Council,Legislative Committee,Performance Improvements and Efficiency Committee,Revenue Enhancement Committee
END:VEVENT
BEGIN:VEVENT
DTSTART;TZID=America/New_York:20230622T130000
DTEND;TZID=America/New_York:20230622T160000
DTSTAMP:20260425T063727
CREATED:20230614T184257Z
LAST-MODIFIED:20230614T184335Z
UID:10001191-1687438800-1687449600@flccoc.org
SUMMARY:Budget Committee Meeting
DESCRIPTION:BUDGET COMMITTEE MEETING \nJune 22\, 2023 \nMeeting: 1:00 – 4:00 PM\, Eastern \nLocation: Orange County Courthouse – Room 255 (425 N. Orange Ave\, Orlando) \nWebEx Link: https://flclerks.webex.com/flclerks/j.php?MTID=md5397342f09bd4333561ae9553950d5b \nMeeting Code: 2316 606 3442; Password: CCOC \nConference Call: 1-866-469-3239; Access Code: 2316 606 3442 \nAGENDA \nPACKET
URL:https://flccoc.org/event/budget-committee-meeting-31/
LOCATION:Orange County Courthouse Complex\, 435 N. Orange Ave. Building A\, Room A\, Orlando\, FL\, 32801
CATEGORIES:Budget Committee
END:VEVENT
BEGIN:VEVENT
DTSTART;TZID=America/New_York:20230803T090000
DTEND;TZID=America/New_York:20230803T160000
DTSTAMP:20260425T063727
CREATED:20230630T193319Z
LAST-MODIFIED:20230726T193803Z
UID:10001193-1691053200-1691078400@flccoc.org
SUMMARY:Budget Committee Meeting
DESCRIPTION:BUDGET COMMITTEE MEETING \n  \nAugust 3\, 2023 \nMeeting: 9:00 AM – 4:00 PM\, Eastern \nLocation: Orange County Courthouse – Room 255 (425 N. Orange Ave\, Orlando) \nWebEx Link: https://flclerks.webex.com/flclerks/j.php?MTID=ma5583b2d1aa681496cf23c1b4accd63d \nMeeting Code: 2301 783 2183; Password: CCOC \nConference Call: 1-866-469-3239; Access Code: 2301 783 2183 \n  \nAGENDA \nPACKET
URL:https://flccoc.org/event/budget-committee-meeting-32/
LOCATION:Orange County Courthouse Complex\, 435 N. Orange Ave. Building A\, Room A\, Orlando\, FL\, 32801
CATEGORIES:Budget Committee
END:VEVENT
BEGIN:VEVENT
DTSTART;TZID=America/New_York:20231017T133000
DTEND;TZID=America/New_York:20231017T153000
DTSTAMP:20260425T063727
CREATED:20230914T184123Z
LAST-MODIFIED:20240216T184036Z
UID:10001198-1697549400-1697556600@flccoc.org
SUMMARY:Budget Committee Meeting
DESCRIPTION:BUDGET COMMITTEE MEETING \n  \nOctober 17\, 2023 \nMeeting: 1:30 PM – 3:30 PM\, Eastern \nWebEx Link:https://flclerks.webex.com/flclerks/j.php?MTID=mc7622ff3cb31456cbfaa57fb31cddcc5 \nMeeting Code: 2315 622 5276; Password: CCOC \nConference Call: 1-866-469-3239; Access Code: 2315 622 5276 \n  \nAGENDA \nPACKET
URL:https://flccoc.org/event/budget-committee-meeting-10-17-2023/
LOCATION:WebEx
CATEGORIES:Budget Committee
END:VEVENT
BEGIN:VEVENT
DTSTART;TZID=America/New_York:20231024T130000
DTEND;TZID=America/New_York:20231024T140000
DTSTAMP:20260425T063727
CREATED:20231026T144926Z
LAST-MODIFIED:20240216T183730Z
UID:10001203-1698152400-1698156000@flccoc.org
SUMMARY:Department of Financial Services Audit Webinar
DESCRIPTION:Department of Financial Services Audit Webinar \nTuesday\, October 24\, 2023\n1:00 PM | (UTC-04:00) Eastern Time (US & Canada) | 1 hr \n  \nWebEx: https://flclerks.webex.com/flclerks/j.php?MTID=m24824f869608a4810f872d246d97ac6b \nJoin by webinar number\nWebinar number (access code): 2304 111 5474\nWebinar password: Clerks2023 (25375721 from phones and video systems) \nJoin by phone\n1-866-469-3239 Call-in toll-free number (US/Canada) \n  \nPresentation \nRecording
URL:https://flccoc.org/event/department-of-financial-services-audit-webinar/
LOCATION:WebEx
CATEGORIES:Budget Committee,Training
END:VEVENT
BEGIN:VEVENT
DTSTART;TZID=America/New_York:20231213T140000
DTEND;TZID=America/New_York:20231213T160000
DTSTAMP:20260425T063727
CREATED:20231206T162303Z
LAST-MODIFIED:20231207T220138Z
UID:10001204-1702476000-1702483200@flccoc.org
SUMMARY:Executive Council Meeting
DESCRIPTION:EXECUTIVE COUNCIL MEETING\nDecember 13\, 2023\nMeeting: 2:00 PM – 4:00 PM\, Eastern\nWebEx Link: https://flclerks.webex.com/flclerks/j.php?MTID=mf796a2c964a337362a56ec9c3a862c53\nMeeting Code: 2304 665 9585\, Password: CCOC\nConference Call: 1-866-469-3239; Access Code: 2304 665 9585 \n  \nAGENDA \nPACKET
URL:https://flccoc.org/event/executive-council-meeting-29/
LOCATION:WebEx
CATEGORIES:Budget Committee,Executive Council,Legislative Committee,Performance Improvements and Efficiency Committee
END:VEVENT
BEGIN:VEVENT
DTSTART;VALUE=DATE:20240209
DTEND;VALUE=DATE:20240210
DTSTAMP:20260425T063727
CREATED:20240108T195659Z
LAST-MODIFIED:20240216T183709Z
UID:10001211-1707436800-1707523199@flccoc.org
SUMMARY:Operational Budget Due
DESCRIPTION:The CFY 2023-24 Operational Budget submission forms and instructions have been posted to the CCOC website: https://flccoc.org/clerks-budget/#opb.  There are no major changes to the Operational Budget form from prior fiscal years. A Revenue Estimate form is not required this year. \n  \nThe Operational Budget Form (Excel Spreadsheet) and the signed Certification Letter are due to reports@flccoc.org by Friday\, February 9\, 2024. \n  \nPlease contact CCOC Staff should you have any questions.
URL:https://flccoc.org/event/operational-budget-due-2/
CATEGORIES:Budget Committee
END:VEVENT
BEGIN:VEVENT
DTSTART;TZID=America/New_York:20240328T133000
DTEND;TZID=America/New_York:20240328T160000
DTSTAMP:20260425T063727
CREATED:20240130T175402Z
LAST-MODIFIED:20240216T184200Z
UID:10001212-1711632600-1711641600@flccoc.org
SUMMARY:Budget Committee Meeting
DESCRIPTION:Virtual CCOC Budget Committee meeting via WebEx on Thursday\, March 28th at 1:30 PM
URL:https://flccoc.org/event/budget-committee-meeting-33/
CATEGORIES:Budget Committee
END:VEVENT
END:VCALENDAR