BEGIN:VCALENDAR
VERSION:2.0
PRODID:-//Welcome to Florida Clerks of Court Operations Corporation (CCOC) - ECPv5.7.0//NONSGML v1.0//EN
CALSCALE:GREGORIAN
METHOD:PUBLISH
X-ORIGINAL-URL:https://flccoc.org
X-WR-CALDESC:Events for Welcome to Florida Clerks of Court Operations Corporation (CCOC)
BEGIN:VTIMEZONE
TZID:UTC
BEGIN:STANDARD
TZOFFSETFROM:+0000
TZOFFSETTO:+0000
TZNAME:UTC
DTSTART:20170101T000000
END:STANDARD
END:VTIMEZONE
BEGIN:VEVENT
DTSTART;TZID=UTC:20171218T080000
DTEND;TZID=UTC:20171218T170000
DTSTAMP:20210607T101200
CREATED:20180112T231443Z
LAST-MODIFIED:20180122T204230Z
UID:328-1513584000-1513616400@flccoc.org
SUMMARY:Executive Committee December Meeting
DESCRIPTION:Minutes Agenda
URL:https://flccoc.org/event/executive-committee-december-meeting/
CATEGORIES:Executive Committee
END:VEVENT
END:VCALENDAR