BEGIN:VCALENDAR
VERSION:2.0
PRODID:-//Welcome to Florida Clerks of Court Operations Corporation (CCOC) - ECPv5.7.0//NONSGML v1.0//EN
CALSCALE:GREGORIAN
METHOD:PUBLISH
X-ORIGINAL-URL:https://flccoc.org
X-WR-CALDESC:Events for Welcome to Florida Clerks of Court Operations Corporation (CCOC)
BEGIN:VTIMEZONE
TZID:America/New_York
BEGIN:DAYLIGHT
TZOFFSETFROM:-0500
TZOFFSETTO:-0400
TZNAME:EDT
DTSTART:20190310T070000
END:DAYLIGHT
BEGIN:STANDARD
TZOFFSETFROM:-0400
TZOFFSETTO:-0500
TZNAME:EST
DTSTART:20191103T060000
END:STANDARD
END:VTIMEZONE
BEGIN:VEVENT
DTSTART;TZID=America/New_York:20190723T100000
DTEND;TZID=America/New_York:20190723T160000
DTSTAMP:20210607T101453
CREATED:20190621T152029Z
LAST-MODIFIED:20190722T143308Z
UID:2782-1563876000-1563897600@flccoc.org
SUMMARY:Budget Committee Workshop & Meeting
DESCRIPTION:CCOC Budget Committee Meeting \nWorkshop: 10:00 AM; Meeting 3:00 PM. See Agenda for call-in information. \nLocation: Alachua County Criminal Justice Center\, Juror Assembly Room \n220 South Main Street\, Gainesville\, Florida\, 32601 \n  \nWorkshop Agenda \nMeeting Agenda \nMeeting Packet – Revised
URL:https://flccoc.org/event/budget-committee-meeting-5/
LOCATION:Alachua County Criminal Justice Center\, 220 South Main Street\, Gainesville\, FL\, 32601\, United States
CATEGORIES:Budget Committee
END:VEVENT
END:VCALENDAR